BEGIN:VCALENDAR
VERSION:2.0
PRODID:-//Sail Newport - ECPv6.15.13.1//NONSGML v1.0//EN
CALSCALE:GREGORIAN
METHOD:PUBLISH
X-ORIGINAL-URL:https://sailnewport.org
X-WR-CALDESC:Events for Sail Newport
REFRESH-INTERVAL;VALUE=DURATION:PT1H
X-Robots-Tag:noindex
X-PUBLISHED-TTL:PT1H
BEGIN:VTIMEZONE
TZID:UTC
BEGIN:STANDARD
TZOFFSETFROM:+0000
TZOFFSETTO:+0000
TZNAME:UTC
DTSTART:20250101T000000
END:STANDARD
END:VTIMEZONE
BEGIN:VEVENT
DTSTART;TZID=UTC:20261009T080000
DTEND;TZID=UTC:20261011T170000
DTSTAMP:20260425T123327
CREATED:20260326T230659Z
LAST-MODIFIED:20260407T161635Z
UID:111818-1791532800-1791738000@sailnewport.org
SUMMARY:IC 37 North Americans
DESCRIPTION:Please join Sail Newport for the commissioning of our new J/7 fleet. Arethusa\, Athena\, New Zealand\, Privateer\, Hanuman\, Tiburon\, HAPpy Sails\, Hissar\, Kachina\, Dolphin\, Daring\, Friday\, Boat #5 and #9 Saturday\, May 9\, 2026 10:30 a.m. Alofsin Piers\, Fort Adams State Park Newport\, RI Parking available adjacent to the Alofsin Piers Contact: Nikki Raccio\, Events Manager Please RSVP below   								\n				\n							\n\n                \n                        \n                            J/7 Fleet Commissioning RSVP\n                             \n                        \n                        Name\n                            \n                            \n                                                    \n                                                    First\n                                                \n                            \n                            \n                                                    \n                                                    Last\n                                                \n                            \n                        Email\n                            \n                        Number of additional guestsCAPTCHA
URL:https://sailnewport.org/events/ic-37-north-americans/
LOCATION:Sail Newport\, 72 Fort Adams Drive\, Newport\, RI\, 02840\, United States
CATEGORIES:Featured,Regattas
ATTACH;FMTTYPE=image/jpeg:https://sailnewport.org/wp-content/uploads/2026/03/2025_07_12_DF_045_B-scaled.jpg
END:VEVENT
BEGIN:VEVENT
DTSTART;TZID=UTC:20261024T090000
DTEND;TZID=UTC:20261025T170000
DTSTAMP:20260425T123328
CREATED:20260109T195756Z
LAST-MODIFIED:20260407T161537Z
UID:5501-1792832400-1792947600@sailnewport.org
SUMMARY:Sail Newport Halloween Howl 2026
DESCRIPTION:Please join Sail Newport for the commissioning of our new J/7 fleet. Arethusa\, Athena\, New Zealand\, Privateer\, Hanuman\, Tiburon\, HAPpy Sails\, Hissar\, Kachina\, Dolphin\, Daring\, Friday\, Boat #5 and #9 Saturday\, May 9\, 2026 10:30 a.m. Alofsin Piers\, Fort Adams State Park Newport\, RI Parking available adjacent to the Alofsin Piers Contact: Nikki Raccio\, Events Manager Please RSVP below   								\n				\n							\n                \n                        \n                            J/7 Fleet Commissioning RSVP\n                             \n                        \n                        Name\n                            \n                            \n                                                    \n                                                    First\n                                                \n                            \n                            \n                                                    \n                                                    Last\n                                                \n                            \n                        Email\n                            \n                        Number of additional guestsCAPTCHA
URL:https://sailnewport.org/events/sail-newport-halloween-howl-2026/
LOCATION:Sail Newport\, 72 Fort Adams Drive\, Newport\, RI\, 02840\, United States
CATEGORIES:Regattas
ATTACH;FMTTYPE=image/jpeg:https://sailnewport.org/wp-content/uploads/2026/01/Sail-Newport_USODA-2022_0249081122_RoFernandez-1.jpg
ORGANIZER;CN="Sail Newport":MAILTO:info@sailnewport.org
END:VEVENT
END:VCALENDAR